BEGIN:VCALENDAR
VERSION:2.0
PRODID:-//Alabama State Bar - ECPv6.15.20//NONSGML v1.0//EN
CALSCALE:GREGORIAN
METHOD:PUBLISH
X-WR-CALNAME:Alabama State Bar
X-ORIGINAL-URL:https://www.alabar.org
X-WR-CALDESC:Events for Alabama State Bar
REFRESH-INTERVAL;VALUE=DURATION:PT1H
X-Robots-Tag:noindex
X-PUBLISHED-TTL:PT1H
BEGIN:VTIMEZONE
TZID:America/Chicago
BEGIN:DAYLIGHT
TZOFFSETFROM:-0600
TZOFFSETTO:-0500
TZNAME:CDT
DTSTART:20170312T080000
END:DAYLIGHT
BEGIN:STANDARD
TZOFFSETFROM:-0500
TZOFFSETTO:-0600
TZNAME:CST
DTSTART:20171105T070000
END:STANDARD
BEGIN:DAYLIGHT
TZOFFSETFROM:-0600
TZOFFSETTO:-0500
TZNAME:CDT
DTSTART:20180311T080000
END:DAYLIGHT
BEGIN:STANDARD
TZOFFSETFROM:-0500
TZOFFSETTO:-0600
TZNAME:CST
DTSTART:20181104T070000
END:STANDARD
BEGIN:DAYLIGHT
TZOFFSETFROM:-0600
TZOFFSETTO:-0500
TZNAME:CDT
DTSTART:20190310T080000
END:DAYLIGHT
BEGIN:STANDARD
TZOFFSETFROM:-0500
TZOFFSETTO:-0600
TZNAME:CST
DTSTART:20191103T070000
END:STANDARD
END:VTIMEZONE
BEGIN:VEVENT
DTSTART;TZID=America/Chicago:20180228T080000
DTEND;TZID=America/Chicago:20180228T160000
DTSTAMP:20260424T153048
CREATED:20180131T200529Z
LAST-MODIFIED:20180131T200529Z
UID:48969-1519804800-1519833600@www.alabar.org
SUMMARY:2nd Annual College Minority Conference (Montgomery)
DESCRIPTION:The ASB’s Diversity in the Profession Committee is hosting its 2nd Annual College Minority Conferences.  This year the Conferences will be in Birmingham and Montgomery.  The Conferences were inspired by the longstanding High School Minority Pre-law program offered by the Young Lawyer’s Section of the Alabama State Bar. \nThese free conferences are creating a pipeline for minority students within our state to obtain valuable information about pursuing a legal career.  College Students will receive information regarding the requirements for gaining admission to law school\, listen to panel discussions on various careers available to persons with a juris doctorate\, watch a mock trial\, hear advice from attorneys and judges\, and network with students who have similar ambitions. \nFree to college students and college pre-law advisors but RSVP required. Lunch provided and reception. Volunteers needed. \nContacts for College MPCLs: \nHope Marshall: hmarshall@whitearnolddowd.com \nBirmingham Location: James Roberts: jroberts@burr.com \nMontgomery Location: Kim Bell: kbell@balch.com
URL:https://www.alabar.org/event/2nd-annual-college-minority-conference-montgomery/
LOCATION:Frank M. Johnson\, Jr. U.S. Courthouse Complex\, One Church Street\, Montgomery\, AL\, 36104\, United States
END:VEVENT
END:VCALENDAR