BEGIN:VCALENDAR
VERSION:2.0
PRODID:-//Alabama State Bar - ECPv6.15.20//NONSGML v1.0//EN
CALSCALE:GREGORIAN
METHOD:PUBLISH
X-WR-CALNAME:Alabama State Bar
X-ORIGINAL-URL:https://www.alabar.org
X-WR-CALDESC:Events for Alabama State Bar
REFRESH-INTERVAL;VALUE=DURATION:PT1H
X-Robots-Tag:noindex
X-PUBLISHED-TTL:PT1H
BEGIN:VTIMEZONE
TZID:America/Chicago
BEGIN:DAYLIGHT
TZOFFSETFROM:-0600
TZOFFSETTO:-0500
TZNAME:CDT
DTSTART:20170312T080000
END:DAYLIGHT
BEGIN:STANDARD
TZOFFSETFROM:-0500
TZOFFSETTO:-0600
TZNAME:CST
DTSTART:20171105T070000
END:STANDARD
BEGIN:DAYLIGHT
TZOFFSETFROM:-0600
TZOFFSETTO:-0500
TZNAME:CDT
DTSTART:20180311T080000
END:DAYLIGHT
BEGIN:STANDARD
TZOFFSETFROM:-0500
TZOFFSETTO:-0600
TZNAME:CST
DTSTART:20181104T070000
END:STANDARD
BEGIN:DAYLIGHT
TZOFFSETFROM:-0600
TZOFFSETTO:-0500
TZNAME:CDT
DTSTART:20190310T080000
END:DAYLIGHT
BEGIN:STANDARD
TZOFFSETFROM:-0500
TZOFFSETTO:-0600
TZNAME:CST
DTSTART:20191103T070000
END:STANDARD
END:VTIMEZONE
BEGIN:VEVENT
DTSTART;TZID=America/Chicago:20180117T100000
DTEND;TZID=America/Chicago:20180117T113000
DTSTAMP:20260424T153054
CREATED:20180105T222117Z
LAST-MODIFIED:20180105T222117Z
UID:48740-1516183200-1516188600@www.alabar.org
SUMMARY:ASB Women's Section Annual Judicial Brunch - Cancelled
DESCRIPTION:This event has been cancelled due to weather.
URL:https://www.alabar.org/event/asb-womens-section-annual-judicial-brunch/
LOCATION:Hotel Capstone\, 320 Paul Bryant Drive\, Tuscaloosa\, Alabama\, 35401\, United States
END:VEVENT
END:VCALENDAR