BEGIN:VCALENDAR
VERSION:2.0
PRODID:-//Alabama State Bar - ECPv6.15.20//NONSGML v1.0//EN
CALSCALE:GREGORIAN
METHOD:PUBLISH
X-WR-CALNAME:Alabama State Bar
X-ORIGINAL-URL:https://www.alabar.org
X-WR-CALDESC:Events for Alabama State Bar
REFRESH-INTERVAL;VALUE=DURATION:PT1H
X-Robots-Tag:noindex
X-PUBLISHED-TTL:PT1H
BEGIN:VTIMEZONE
TZID:America/Chicago
BEGIN:DAYLIGHT
TZOFFSETFROM:-0600
TZOFFSETTO:-0500
TZNAME:CDT
DTSTART:20160313T080000
END:DAYLIGHT
BEGIN:STANDARD
TZOFFSETFROM:-0500
TZOFFSETTO:-0600
TZNAME:CST
DTSTART:20161106T070000
END:STANDARD
BEGIN:DAYLIGHT
TZOFFSETFROM:-0600
TZOFFSETTO:-0500
TZNAME:CDT
DTSTART:20170312T080000
END:DAYLIGHT
BEGIN:STANDARD
TZOFFSETFROM:-0500
TZOFFSETTO:-0600
TZNAME:CST
DTSTART:20171105T070000
END:STANDARD
BEGIN:DAYLIGHT
TZOFFSETFROM:-0600
TZOFFSETTO:-0500
TZNAME:CDT
DTSTART:20180311T080000
END:DAYLIGHT
BEGIN:STANDARD
TZOFFSETFROM:-0500
TZOFFSETTO:-0600
TZNAME:CST
DTSTART:20181104T070000
END:STANDARD
END:VTIMEZONE
BEGIN:VEVENT
DTSTART;TZID=America/Chicago:20171116T130000
DTEND;TZID=America/Chicago:20171116T140000
DTSTAMP:20260424T153140
CREATED:20171103T175605Z
LAST-MODIFIED:20171103T175605Z
UID:48403-1510837200-1510840800@www.alabar.org
SUMMARY:Free Webinar - Moving Your Practice to the Cloud: Best Practices for Painless Migration
DESCRIPTION:Whether your law firm is using an outdated practice management software\, or your current solution is simply not meeting your needs\, don’t let your fear of a “systems migration” slow down the progress and productivity of your practice. Learn what to expect when considering making a migration from your current software to a modern cloud-based solution. \nThis program is presented by Alabama State Bar member benefit provider CosmoLex.  MCLE credit has NOT been applied for in Alabama\, but you may submit the program for personal credit with a $25 fee payable to the ASB.  Click here to reserve your spot.
URL:https://www.alabar.org/event/free-webinar-moving-practice-cloud-best-practices-painless-migration/
CATEGORIES:Practice Management,Public Events,Solo+Small Firm
END:VEVENT
END:VCALENDAR