BEGIN:VCALENDAR
VERSION:2.0
PRODID:-//Alabama State Bar - ECPv6.15.20//NONSGML v1.0//EN
CALSCALE:GREGORIAN
METHOD:PUBLISH
X-WR-CALNAME:Alabama State Bar
X-ORIGINAL-URL:https://www.alabar.org
X-WR-CALDESC:Events for Alabama State Bar
REFRESH-INTERVAL;VALUE=DURATION:PT1H
X-Robots-Tag:noindex
X-PUBLISHED-TTL:PT1H
BEGIN:VTIMEZONE
TZID:America/Chicago
BEGIN:DAYLIGHT
TZOFFSETFROM:-0600
TZOFFSETTO:-0500
TZNAME:CDT
DTSTART:20160313T080000
END:DAYLIGHT
BEGIN:STANDARD
TZOFFSETFROM:-0500
TZOFFSETTO:-0600
TZNAME:CST
DTSTART:20161106T070000
END:STANDARD
BEGIN:DAYLIGHT
TZOFFSETFROM:-0600
TZOFFSETTO:-0500
TZNAME:CDT
DTSTART:20170312T080000
END:DAYLIGHT
BEGIN:STANDARD
TZOFFSETFROM:-0500
TZOFFSETTO:-0600
TZNAME:CST
DTSTART:20171105T070000
END:STANDARD
BEGIN:DAYLIGHT
TZOFFSETFROM:-0600
TZOFFSETTO:-0500
TZNAME:CDT
DTSTART:20180311T080000
END:DAYLIGHT
BEGIN:STANDARD
TZOFFSETFROM:-0500
TZOFFSETTO:-0600
TZNAME:CST
DTSTART:20181104T070000
END:STANDARD
END:VTIMEZONE
BEGIN:VEVENT
DTSTART;TZID=America/Chicago:20171130T130000
DTEND;TZID=America/Chicago:20171130T140000
DTSTAMP:20260424T152856
CREATED:20171103T175856Z
LAST-MODIFIED:20171103T175856Z
UID:48405-1512046800-1512050400@www.alabar.org
SUMMARY:Free Webinar - Productivity & Compensation Models Made Easy
DESCRIPTION:If your firm is struggling to sort out its productivity or if even part of your compensation is based on collections\, this webinar is for you. You’ll learn how to build compensation models that are compliant & accurate — and how technology can streamline the entire process! \nThis program is presented by Alabama State Bar member benefit provider .  MCLE credit has NOT been applied for in Alabama\, but you may submit the program for personal credit with a $25 fee payable to the ASB.  Click here to reserve your spot.
URL:https://www.alabar.org/event/free-webinar-productivity-compensation-models-made-easy/
CATEGORIES:Practice Management,Public Events,Solo+Small Firm
END:VEVENT
END:VCALENDAR