BEGIN:VCALENDAR
VERSION:2.0
PRODID:-//Alabama State Bar - ECPv6.15.20//NONSGML v1.0//EN
CALSCALE:GREGORIAN
METHOD:PUBLISH
X-WR-CALNAME:Alabama State Bar
X-ORIGINAL-URL:https://www.alabar.org
X-WR-CALDESC:Events for Alabama State Bar
REFRESH-INTERVAL;VALUE=DURATION:PT1H
X-Robots-Tag:noindex
X-PUBLISHED-TTL:PT1H
BEGIN:VTIMEZONE
TZID:America/Chicago
BEGIN:DAYLIGHT
TZOFFSETFROM:-0600
TZOFFSETTO:-0500
TZNAME:CDT
DTSTART:20170312T080000
END:DAYLIGHT
BEGIN:STANDARD
TZOFFSETFROM:-0500
TZOFFSETTO:-0600
TZNAME:CST
DTSTART:20171105T070000
END:STANDARD
BEGIN:DAYLIGHT
TZOFFSETFROM:-0600
TZOFFSETTO:-0500
TZNAME:CDT
DTSTART:20180311T080000
END:DAYLIGHT
BEGIN:STANDARD
TZOFFSETFROM:-0500
TZOFFSETTO:-0600
TZNAME:CST
DTSTART:20181104T070000
END:STANDARD
BEGIN:DAYLIGHT
TZOFFSETFROM:-0600
TZOFFSETTO:-0500
TZNAME:CDT
DTSTART:20190310T080000
END:DAYLIGHT
BEGIN:STANDARD
TZOFFSETFROM:-0500
TZOFFSETTO:-0600
TZNAME:CST
DTSTART:20191103T070000
END:STANDARD
END:VTIMEZONE
BEGIN:VEVENT
DTSTART;TZID=America/Chicago:20180222T130000
DTEND;TZID=America/Chicago:20180222T140000
DTSTAMP:20260424T153141
CREATED:20180208T180722Z
LAST-MODIFIED:20180208T180722Z
UID:49069-1519304400-1519308000@www.alabar.org
SUMMARY:Free Webinar - Setting Practice Priorities:  Using CosmoLex to Track Financials & More
DESCRIPTION:At large firms\, CFOs and accountants use class-based accounting to gain knowledge about their cash flow and set priorities going forward. Now\, CosmoLex has made the same technology easily available for you. Join them to see how this and other CosmoLex features can help you easily manage your accounting and set goals just like the BigLaw firms. \nThis program is presented by Alabama State Bar member benefit provider CosmoLex.  MCLE credit has NOT been applied for in Alabama\, but you may submit the program for personal credit with a $25 fee payable to the ASB.  Click here to reserve your spot.
URL:https://www.alabar.org/event/free-webinar-setting-practice-priorities-using-cosmolex-track-financials/
CATEGORIES:Practice Management,Public Events,Solo+Small Firm
END:VEVENT
END:VCALENDAR