BEGIN:VCALENDAR
VERSION:2.0
PRODID:-//Alabama State Bar - ECPv6.15.20//NONSGML v1.0//EN
CALSCALE:GREGORIAN
METHOD:PUBLISH
X-WR-CALNAME:Alabama State Bar
X-ORIGINAL-URL:https://www.alabar.org
X-WR-CALDESC:Events for Alabama State Bar
REFRESH-INTERVAL;VALUE=DURATION:PT1H
X-Robots-Tag:noindex
X-PUBLISHED-TTL:PT1H
BEGIN:VTIMEZONE
TZID:America/Chicago
BEGIN:DAYLIGHT
TZOFFSETFROM:-0600
TZOFFSETTO:-0500
TZNAME:CDT
DTSTART:20160313T080000
END:DAYLIGHT
BEGIN:STANDARD
TZOFFSETFROM:-0500
TZOFFSETTO:-0600
TZNAME:CST
DTSTART:20161106T070000
END:STANDARD
BEGIN:DAYLIGHT
TZOFFSETFROM:-0600
TZOFFSETTO:-0500
TZNAME:CDT
DTSTART:20170312T080000
END:DAYLIGHT
BEGIN:STANDARD
TZOFFSETFROM:-0500
TZOFFSETTO:-0600
TZNAME:CST
DTSTART:20171105T070000
END:STANDARD
BEGIN:DAYLIGHT
TZOFFSETFROM:-0600
TZOFFSETTO:-0500
TZNAME:CDT
DTSTART:20180311T080000
END:DAYLIGHT
BEGIN:STANDARD
TZOFFSETFROM:-0500
TZOFFSETTO:-0600
TZNAME:CST
DTSTART:20181104T070000
END:STANDARD
END:VTIMEZONE
BEGIN:VEVENT
DTSTART;TZID=America/Chicago:20171221T130000
DTEND;TZID=America/Chicago:20171221T140000
DTSTAMP:20260424T152933
CREATED:20171206T215541Z
LAST-MODIFIED:20171206T215541Z
UID:48539-1513861200-1513864800@www.alabar.org
SUMMARY:Free Webinar - Streamlining Your Law Practice in 2018 with CosmoLex
DESCRIPTION:Thousands of recent regulatory changes\, as well as tax reform and new policies\, will bring a lot more work to your desk next year. Don’t get overwhelmed. Get your practice running at peak efficiency with an easy-to-use\, fully integrated\, cloud-based solution\, CosmoLex. \nThis program is presented by Alabama State Bar member benefit provider CosmoLex.  MCLE credit has NOT been applied for in Alabama\, but you may submit the program for personal credit with a $25 fee payable to the ASB.  Click here to reserve your spot.
URL:https://www.alabar.org/event/free-webinar-streamlining-law-practice-2018-cosmolex/
CATEGORIES:Practice Management,Public Events,Solo+Small Firm
END:VEVENT
END:VCALENDAR