BEGIN:VCALENDAR
VERSION:2.0
PRODID:-//Alabama State Bar - ECPv6.15.20//NONSGML v1.0//EN
CALSCALE:GREGORIAN
METHOD:PUBLISH
X-WR-CALNAME:Alabama State Bar
X-ORIGINAL-URL:https://www.alabar.org
X-WR-CALDESC:Events for Alabama State Bar
REFRESH-INTERVAL;VALUE=DURATION:PT1H
X-Robots-Tag:noindex
X-PUBLISHED-TTL:PT1H
BEGIN:VTIMEZONE
TZID:America/Chicago
BEGIN:DAYLIGHT
TZOFFSETFROM:-0600
TZOFFSETTO:-0500
TZNAME:CDT
DTSTART:20160313T080000
END:DAYLIGHT
BEGIN:STANDARD
TZOFFSETFROM:-0500
TZOFFSETTO:-0600
TZNAME:CST
DTSTART:20161106T070000
END:STANDARD
BEGIN:DAYLIGHT
TZOFFSETFROM:-0600
TZOFFSETTO:-0500
TZNAME:CDT
DTSTART:20170312T080000
END:DAYLIGHT
BEGIN:STANDARD
TZOFFSETFROM:-0500
TZOFFSETTO:-0600
TZNAME:CST
DTSTART:20171105T070000
END:STANDARD
BEGIN:DAYLIGHT
TZOFFSETFROM:-0600
TZOFFSETTO:-0500
TZNAME:CDT
DTSTART:20180311T080000
END:DAYLIGHT
BEGIN:STANDARD
TZOFFSETFROM:-0500
TZOFFSETTO:-0600
TZNAME:CST
DTSTART:20181104T070000
END:STANDARD
END:VTIMEZONE
BEGIN:VEVENT
DTSTART;TZID=America/Chicago:20171207T113000
DTEND;TZID=America/Chicago:20171207T123000
DTSTAMP:20260424T153347
CREATED:20171206T212709Z
LAST-MODIFIED:20171206T212709Z
UID:48534-1512646200-1512649800@www.alabar.org
SUMMARY:Free Webinar - Year-End Legal Accounting Checklist & Tips
DESCRIPTION:The end of the year can be a hectic time for many business owners. Sorting through the entire year’s financials\, preparing the documents you’ll need to file your tax returns – there are a lot of accounting tasks that need to be completed (properly) before you can take some time off to enjoy the holidays with your family. Follow CosmoLex’s step-by-step Year-End Accounting Checklist for Law Firms and your office will be ahead of the holiday hustle and bustle and get to enjoy some well-deserved time off like everyone else. \nThis program is presented by Alabama State Bar member benefit provider CosmoLex.  MCLE credit has NOT been applied for in Alabama\, but you may submit the program for personal credit with a $25 fee payable to the ASB.  Click here to reserve your spot.
URL:https://www.alabar.org/event/free-webinar-year-end-legal-accounting-checklist-tips/
CATEGORIES:Practice Management,Public Events,Solo+Small Firm
END:VEVENT
END:VCALENDAR