BEGIN:VCALENDAR
VERSION:2.0
PRODID:-//Alabama State Bar - ECPv6.15.20//NONSGML v1.0//EN
CALSCALE:GREGORIAN
METHOD:PUBLISH
X-WR-CALNAME:Alabama State Bar
X-ORIGINAL-URL:https://www.alabar.org
X-WR-CALDESC:Events for Alabama State Bar
REFRESH-INTERVAL;VALUE=DURATION:PT1H
X-Robots-Tag:noindex
X-PUBLISHED-TTL:PT1H
BEGIN:VTIMEZONE
TZID:America/Chicago
BEGIN:DAYLIGHT
TZOFFSETFROM:-0600
TZOFFSETTO:-0500
TZNAME:CDT
DTSTART:20170312T080000
END:DAYLIGHT
BEGIN:STANDARD
TZOFFSETFROM:-0500
TZOFFSETTO:-0600
TZNAME:CST
DTSTART:20171105T070000
END:STANDARD
BEGIN:DAYLIGHT
TZOFFSETFROM:-0600
TZOFFSETTO:-0500
TZNAME:CDT
DTSTART:20180311T080000
END:DAYLIGHT
BEGIN:STANDARD
TZOFFSETFROM:-0500
TZOFFSETTO:-0600
TZNAME:CST
DTSTART:20181104T070000
END:STANDARD
BEGIN:DAYLIGHT
TZOFFSETFROM:-0600
TZOFFSETTO:-0500
TZNAME:CDT
DTSTART:20190310T080000
END:DAYLIGHT
BEGIN:STANDARD
TZOFFSETFROM:-0500
TZOFFSETTO:-0600
TZNAME:CST
DTSTART:20191103T070000
END:STANDARD
END:VTIMEZONE
BEGIN:VEVENT
DTSTART;TZID=America/Chicago:20180315T150000
DTEND;TZID=America/Chicago:20180315T170000
DTSTAMP:20260424T152856
CREATED:20180213T180633Z
LAST-MODIFIED:20180213T180633Z
UID:49113-1521126000-1521133200@www.alabar.org
SUMMARY:Legal Assistance Clinic - Tuscaloosa
DESCRIPTION:The Alabama State Bar Volunteer Lawyers Program\, working in cooperation with the Tuscaloosa County Bar Association\, The University of Alabama School of Law and Legal Services Alabama\, host a free legal clinic for low-income residents of Tuscaloosa County on the third Thursday of each month. \nThe clinic is open to the more than 40\,000 low-income residents of Tuscaloosa County coping with civil legal challenges. The clinic lawyers are experienced in various areas of the law and will be available to answer questions in the areas of divorce/custody/visitation\, landlord/tenant issues\, wills and estates\, debts/bankruptcy/foreclosure and domestic violence.
URL:https://www.alabar.org/event/legal-assistance-clinic/
LOCATION:Tuscaloosa Public Library Main Branch\, 1801 Jack Warner Parkway NE\, Tuscaloosa\, AL\, 35401\, United States
END:VEVENT
END:VCALENDAR