BEGIN:VCALENDAR
VERSION:2.0
PRODID:-//Alabama State Bar - ECPv6.15.20//NONSGML v1.0//EN
CALSCALE:GREGORIAN
METHOD:PUBLISH
X-WR-CALNAME:Alabama State Bar
X-ORIGINAL-URL:https://www.alabar.org
X-WR-CALDESC:Events for Alabama State Bar
REFRESH-INTERVAL;VALUE=DURATION:PT1H
X-Robots-Tag:noindex
X-PUBLISHED-TTL:PT1H
BEGIN:VTIMEZONE
TZID:America/Chicago
BEGIN:DAYLIGHT
TZOFFSETFROM:-0600
TZOFFSETTO:-0500
TZNAME:CDT
DTSTART:20160313T080000
END:DAYLIGHT
BEGIN:STANDARD
TZOFFSETFROM:-0500
TZOFFSETTO:-0600
TZNAME:CST
DTSTART:20161106T070000
END:STANDARD
BEGIN:DAYLIGHT
TZOFFSETFROM:-0600
TZOFFSETTO:-0500
TZNAME:CDT
DTSTART:20170312T080000
END:DAYLIGHT
BEGIN:STANDARD
TZOFFSETFROM:-0500
TZOFFSETTO:-0600
TZNAME:CST
DTSTART:20171105T070000
END:STANDARD
BEGIN:DAYLIGHT
TZOFFSETFROM:-0600
TZOFFSETTO:-0500
TZNAME:CDT
DTSTART:20180311T080000
END:DAYLIGHT
BEGIN:STANDARD
TZOFFSETFROM:-0500
TZOFFSETTO:-0600
TZNAME:CST
DTSTART:20181104T070000
END:STANDARD
END:VTIMEZONE
BEGIN:VEVENT
DTSTART;TZID=America/Chicago:20171129T113000
DTEND;TZID=America/Chicago:20171129T133000
DTSTAMP:20260424T153054
CREATED:20171117T194946Z
LAST-MODIFIED:20171117T194946Z
UID:48479-1511955000-1511962200@www.alabar.org
SUMMARY:Mediation Perspectives: A Round Table Discussion
DESCRIPTION:This free 1.5 hour CLE is being sponsored by the Alabama State Bar Section on Dispute Resolution and the Alabama Center for Dispute Resolution. This event is one in a series of events being held in Alabama to celebrate Mediation Week. \n\n11:30 a.m. Complimentary lunch\nNoon to 1:30 p.m. Round Table Discussion\nAlabama Center for Dispute Resolution – Eileen Harris\n Tips for Effective Mediations – Martha Reeves Cook\nRole of Attorneys in Mediation – John Earnhardt\nA view from the Bench – Honorable Lorraine Pringle\n\nThis course has been approved for 1.5 hours of MCLE credit. \n 
URL:https://www.alabar.org/event/mediation-perspectives-round-table-discussion-4/
LOCATION:Birmingham Bar Association\, 2021 2nd Ave N\, Birmingham\, AL\, 35203
CATEGORIES:Dispute Resolution Section,Other
END:VEVENT
END:VCALENDAR