BEGIN:VCALENDAR
VERSION:2.0
PRODID:-//Alabama State Bar - ECPv6.15.20//NONSGML v1.0//EN
CALSCALE:GREGORIAN
METHOD:PUBLISH
X-ORIGINAL-URL:https://www.alabar.org
X-WR-CALDESC:Events for Alabama State Bar
REFRESH-INTERVAL;VALUE=DURATION:PT1H
X-Robots-Tag:noindex
X-PUBLISHED-TTL:PT1H
BEGIN:VTIMEZONE
TZID:America/Chicago
BEGIN:DAYLIGHT
TZOFFSETFROM:-0600
TZOFFSETTO:-0500
TZNAME:CDT
DTSTART:20240310T080000
END:DAYLIGHT
BEGIN:STANDARD
TZOFFSETFROM:-0500
TZOFFSETTO:-0600
TZNAME:CST
DTSTART:20241103T070000
END:STANDARD
BEGIN:DAYLIGHT
TZOFFSETFROM:-0600
TZOFFSETTO:-0500
TZNAME:CDT
DTSTART:20250309T080000
END:DAYLIGHT
BEGIN:STANDARD
TZOFFSETFROM:-0500
TZOFFSETTO:-0600
TZNAME:CST
DTSTART:20251102T070000
END:STANDARD
BEGIN:DAYLIGHT
TZOFFSETFROM:-0600
TZOFFSETTO:-0500
TZNAME:CDT
DTSTART:20260308T080000
END:DAYLIGHT
BEGIN:STANDARD
TZOFFSETFROM:-0500
TZOFFSETTO:-0600
TZNAME:CST
DTSTART:20261101T070000
END:STANDARD
END:VTIMEZONE
BEGIN:VEVENT
DTSTART;VALUE=DATE:20250515
DTEND;VALUE=DATE:20250518
DTSTAMP:20260422T041027
CREATED:20250304T165031Z
LAST-MODIFIED:20250304T165103Z
UID:68332-1747267200-1747526399@www.alabar.org
SUMMARY:Young Lawyers' Section Orange Beach CLE
DESCRIPTION:Event Information\n\nThursday\, May 15\, 2025 at 6:30 PM to Saturday\, May 17\, 2025 at 7:30 PM CDT \nPerdido Beach Resort\, 27200\, Orange Beach\, AL\, 36561\, United States. \nRegister here: 2025 Alabama State Bar Young Lawyers Orange Beach CLE \n\nEvent Information:  The Alabama State Bar Young Lawyers Section is hosting its annual Orange Beach CLE on May 15-17\, 2025\, at the Perdido Beach Resort.  This year’s theme will be “Harvesting Hope:  Growing the Next Generation of Legal Leaders.”  Social events include a welcome reception along with other social activities in the afternoon of each day. \nCLE Cancellation Policy:  Full refund for registration fees will be given if we are notified by May 1\, 2025. \nMCLE Credit:  Pending approval from the Alabama State Bar\, the CLE will provide for a maximum of 6.0 hours credit\, including 1.0 hours of ethics.  It is the responsibility of each attorney to maintain records of attendance.  Please be sure to include your Alabama Bar Membership number on the registration form. \nAccommodations:  Hotel reservations can be made at the Perdido Beach Resort by calling 1-800-634-8001 and referencing Booking ID 21262.  Room block available until April 15th. \nFor more information\, contact Gavin King at gavin.king@beasleyallen.com or Elizabeth Weyerman at elizabeth.weyerman@beasleyallen.com .
URL:https://www.alabar.org/event/young-lawyers-section-orange-beach-cle/
CATEGORIES:Home
END:VEVENT
END:VCALENDAR