BEGIN:VCALENDAR
VERSION:2.0
PRODID:-//Alabama State Bar - ECPv6.15.20//NONSGML v1.0//EN
CALSCALE:GREGORIAN
METHOD:PUBLISH
X-WR-CALNAME:Alabama State Bar
X-ORIGINAL-URL:https://www.alabar.org
X-WR-CALDESC:Events for Alabama State Bar
REFRESH-INTERVAL;VALUE=DURATION:PT1H
X-Robots-Tag:noindex
X-PUBLISHED-TTL:PT1H
BEGIN:VTIMEZONE
TZID:America/Chicago
BEGIN:DAYLIGHT
TZOFFSETFROM:-0600
TZOFFSETTO:-0500
TZNAME:CDT
DTSTART:20170312T080000
END:DAYLIGHT
BEGIN:STANDARD
TZOFFSETFROM:-0500
TZOFFSETTO:-0600
TZNAME:CST
DTSTART:20171105T070000
END:STANDARD
BEGIN:DAYLIGHT
TZOFFSETFROM:-0600
TZOFFSETTO:-0500
TZNAME:CDT
DTSTART:20180311T080000
END:DAYLIGHT
BEGIN:STANDARD
TZOFFSETFROM:-0500
TZOFFSETTO:-0600
TZNAME:CST
DTSTART:20181104T070000
END:STANDARD
BEGIN:DAYLIGHT
TZOFFSETFROM:-0600
TZOFFSETTO:-0500
TZNAME:CDT
DTSTART:20190310T080000
END:DAYLIGHT
BEGIN:STANDARD
TZOFFSETFROM:-0500
TZOFFSETTO:-0600
TZNAME:CST
DTSTART:20191103T070000
END:STANDARD
END:VTIMEZONE
BEGIN:VEVENT
DTSTART;TZID=America/Chicago:20180929T100000
DTEND;TZID=America/Chicago:20180929T140000
DTSTAMP:20260424T112108
CREATED:20180920T154542Z
LAST-MODIFIED:20180920T154542Z
UID:50773-1538215200-1538229600@www.alabar.org
SUMMARY:Habitat for Humanity Wills Clinic
DESCRIPTION:Law Students and volunteer attorneys will prepare wills and other estate planning documents for Habitat for Humanity homeowners.
URL:https://www.alabar.org/event/habitat-for-humanity-wills-clinic-2/
LOCATION:Habitat for Humanity Tuscaloosa\, 1120 35th Street\, Tuscaloosa\, AL\, 35401\, United States
CATEGORIES:Pro Bono Month
END:VEVENT
BEGIN:VEVENT
DTSTART;TZID=America/Chicago:20180921T120000
DTEND;TZID=America/Chicago:20180921T130000
DTSTAMP:20260424T112108
CREATED:20180801T192722Z
LAST-MODIFIED:20180801T192722Z
UID:50413-1537531200-1537534800@www.alabar.org
SUMMARY:Focus on Team: Breaking Down Roles
DESCRIPTION:Collaborative Law Practice Webinar Series sponsored by: Dispute Resolution Section of the ASB; Alabama Center for Dispute Resolution; Birmingham Bar Association\, Collaborative Law Committee; Birmingham Collaborative Law Alliance. \nThis four-part series of free 60 minute webinars will guide you through the ins and outs of collaborative law practice. All webinars begin at noon and end at 1 p.m. and been approved by the ASB for MCLE credit. \n\nAug 24\, 2018 – “Introduction to Collaborative Law Practice” (1 hour-MCLE)\nSep 21\, 2018 – “Focus on Team: Breaking Down Roles” (1 hour-MCLE)\nNov 2\, 2018 – “The How To’s of Collaborative Law” (1 hour-MCLE)\nDec 7\, 2018 – “Informed Consent/Civil Collaboration” (1 hour-Ethics MCLE)\n\nTo learn more and register\, go to http://www.alabamaadr.org/web/training/Collaborative_Law_2018.php \nYou must register to participate in the webinar(s).
URL:https://www.alabar.org/event/focus-on-team-breaking-down-roles/
LOCATION:Webinar
CATEGORIES:Dispute Resolution Section
END:VEVENT
BEGIN:VEVENT
DTSTART;TZID=America/Chicago:20180920T120000
DTEND;TZID=America/Chicago:20180920T130000
DTSTAMP:20260424T112108
CREATED:20180516T221529Z
LAST-MODIFIED:20180516T221529Z
UID:49967-1537444800-1537448400@www.alabar.org
SUMMARY:State of the Bar/PMAP CLE - Calhoun/Cleburne County Bar Association
DESCRIPTION:Eric Anderson will give a 1 hour State of the Bar/PMAP CLE presentation entitled “Social Media Marketing for Attorneys” for the Calhoun-Cleburne Bar Association.
URL:https://www.alabar.org/event/state-of-the-bar-pmap-cle-calhoun-cleburne-county-bar-association/
LOCATION:Classic on Noble\, 1024 Noble Street\, Anniston\, AL\, 36201\, United States
END:VEVENT
BEGIN:VEVENT
DTSTART;TZID=America/Chicago:20180914T100000
DTEND;TZID=America/Chicago:20180914T120000
DTSTAMP:20260424T112108
CREATED:20180731T194922Z
LAST-MODIFIED:20180731T194922Z
UID:50402-1536919200-1536926400@www.alabar.org
SUMMARY:Board of Bar Commissioners Meeting
DESCRIPTION:The Board of Bar Commissioners (BBC) is the governing and policy-making body of the Alabama State Bar. The board is composed of 75 members. Of those 75\, there are 65 members who are elected from the 41 judicial circuits (§34-3-40) and nine at-large members who are selected by the board (§34-3-41). Any member in good standing may run for election upon nomination by five or more members residing in the circuit where the nominee resides or upon a declaration of candidacy (§34-3-42). Commission terms run for three years beginning at the annual meeting in July following the member’s election or selection. \nThe Board of Bar Commissioners has the authority to promulgate and enforce rules relating to admissions\, rules of ethics and discipline of its membership. Other responsibilities of the board include determining the qualifications and requirements for admission to the practice of law; investigating and acting on complaints concerning conduct of members and applicants for admission; overseeing the bar examination; assisting local bar associations and more.
URL:https://www.alabar.org/event/board-of-bar-commissioners-meeting-9/
LOCATION:Alabama State Bar\, 415 Dexter Avenue\, Montgomery\, AL\, United States
END:VEVENT
BEGIN:VEVENT
DTSTART;TZID=America/Chicago:20180914T080000
DTEND;TZID=America/Chicago:20180914T160000
DTSTAMP:20260424T112108
CREATED:20180828T190122Z
LAST-MODIFIED:20180828T190122Z
UID:50585-1536912000-1536940800@www.alabar.org
SUMMARY:ASB Health Law Section Annual Fall CLE
DESCRIPTION:The Alabama State Bar Health Law Section is co-sponsoring its annual fall CLE program with the Cumberland School of Law. The seminar has been approved for 6.0 CLE hours\, including 1.0 hour of ethics. For registration information and agenda\, download the brochure here.
URL:https://www.alabar.org/event/asb-health-law-section-annual-fall-cle/
LOCATION:AL
CATEGORIES:Public Events
END:VEVENT
BEGIN:VEVENT
DTSTART;TZID=America/Chicago:20180907T100000
DTEND;TZID=America/Chicago:20180907T130000
DTSTAMP:20260424T112108
CREATED:20180814T202313Z
LAST-MODIFIED:20180814T202313Z
UID:50513-1536314400-1536325200@www.alabar.org
SUMMARY:ASB Young Lawyers Section Planning Meeting
DESCRIPTION:Section leadership will have a planning meeting to discuss upcoming YLS events.
URL:https://www.alabar.org/event/asb-young-lawyers-section-planning-meeting/
LOCATION:Alabama State Bar\, 415 Dexter Avenue\, Montgomery\, AL\, United States
END:VEVENT
BEGIN:VEVENT
DTSTART;TZID=America/Chicago:20180831T120000
DTEND;TZID=America/Chicago:20180831T130000
DTSTAMP:20260424T112108
CREATED:20180823T152817Z
LAST-MODIFIED:20180823T152817Z
UID:50570-1535716800-1535720400@www.alabar.org
SUMMARY:ASB Family Law Section CLE - "Stars Across the Bay"
DESCRIPTION:The ASB Family Law Section presents a one hour CLE in Mobile. Contact Virginia Haas at vhaas@bellsouth.net or (251) 433-0027 for more details.
URL:https://www.alabar.org/event/asb-family-law-section-cle-stars-across-the-bay/
LOCATION:AL
END:VEVENT
BEGIN:VEVENT
DTSTART;TZID=America/Chicago:20180829T130000
DTEND;TZID=America/Chicago:20180829T183000
DTSTAMP:20260424T112108
CREATED:20180801T163053Z
LAST-MODIFIED:20180801T163053Z
UID:50404-1535547600-1535567400@www.alabar.org
SUMMARY:ASB Taxation Law Section Annual Meeting
DESCRIPTION:The Annual Meeting of the Alabama State Bar Taxation Law Section will be held on Wednesday\, August 29 at the Embassy Suites\, 300 Tallapoosa Street\, Montgomery.  To register in advance\, please contact Sherry Barber at sbarber@brladley.com or (205) 521-8681. \nThis seminar has been approved for 4.0 hours MCLE credit\, including 1.0 hour of ethics.
URL:https://www.alabar.org/event/asb-taxation-law-section-annual-meeting-2/
LOCATION:Embassy Suites Hotel & Conference Center\, 300 Tallapoosa Street\, Montgomery\, AL\, United States
END:VEVENT
BEGIN:VEVENT
DTSTART;TZID=America/Chicago:20180824T120000
DTEND;TZID=America/Chicago:20180824T130000
DTSTAMP:20260424T112108
CREATED:20180801T192502Z
LAST-MODIFIED:20180801T192502Z
UID:50411-1535112000-1535115600@www.alabar.org
SUMMARY:Introduction to Collaborative Law Practice
DESCRIPTION:Collaborative Law Practice Webinar Series sponsored by: Dispute Resolution Section of the ASB; Alabama Center for Dispute Resolution; Birmingham Bar Association\, Collaborative Law Committee; Birmingham Collaborative Law Alliance. \nThis four-part series of free 60 minute webinars will guide you through the ins and outs of collaborative law practice. All webinars begin at noon and end at 1 p.m. and been approved by the ASB for MCLE credit. \n\nAug 24\, 2018 – “Introduction to Collaborative Law Practice” (1 hour-MCLE)\nSep 21\, 2018 – “Focus on Team: Breaking Down Roles” (1 hour-MCLE)\nNov 2\, 2018 – “The How To’s of Collaborative Law” (1 hour-MCLE)\nDec 7\, 2018 – “Informed Consent/Civil Collaboration” (1 hour-Ethics MCLE)\n\nTo learn more and register\, go to http://www.alabamaadr.org/web/training/Collaborative_Law_2018.php \nYou must register to participate in the webinar(s).
URL:https://www.alabar.org/event/introduction-to-collaborative-law-practice/
LOCATION:Webinar
CATEGORIES:Dispute Resolution Section
END:VEVENT
BEGIN:VEVENT
DTSTART;TZID=America/Chicago:20180822T120000
DTEND;TZID=America/Chicago:20180822T130000
DTSTAMP:20260424T112108
CREATED:20180516T192755Z
LAST-MODIFIED:20180516T192755Z
UID:49958-1534939200-1534942800@www.alabar.org
SUMMARY:State of the Bar/PMAP CLE - Lawrence County Bar Association
DESCRIPTION:Kristi Skipper will give a 1 hour State of the Bar/PMAP CLE presentation entitled “Casemaker Tips” for the Lawrence County Bar Association.
URL:https://www.alabar.org/event/state-of-the-bar-pmap-cle-lawrence-county-bar-association-2/
LOCATION:John’s Bar-B-Que\, 16165 Court Street\, Moulton\, AL\, 35650\, United States
END:VEVENT
BEGIN:VEVENT
DTSTART;TZID=America/Chicago:20180810T110000
DTEND;TZID=America/Chicago:20180811T121500
DTSTAMP:20260424T112108
CREATED:20180621T221233Z
LAST-MODIFIED:20180621T221233Z
UID:50203-1533898800-1533989700@www.alabar.org
SUMMARY:29th Annual Alabama Military Law Symposium
DESCRIPTION:The ASB Military Law Committee hosts their annual symposium in Mobile at the Battle House Renaissance Hotel. For more information.
URL:https://www.alabar.org/event/29th-annual-alabama-military-law-symposium/
LOCATION:AL
END:VEVENT
BEGIN:VEVENT
DTSTART;TZID=America/Chicago:20180725T120000
DTEND;TZID=America/Chicago:20180725T130000
DTSTAMP:20260424T112108
CREATED:20180614T202929Z
LAST-MODIFIED:20180614T202929Z
UID:50142-1532520000-1532523600@www.alabar.org
SUMMARY:State of the Bar (PMAP) - Baldwin County Bar Association
DESCRIPTION:Kristi Skipper will give a 1 hour State of the Bar (PMAP) CLE presentation entitled “Casemaker Tips” for the Baldwin County Bar Association.
URL:https://www.alabar.org/event/state-of-the-bar-pmap-baldwin-county-bar-association/
LOCATION:AL
END:VEVENT
BEGIN:VEVENT
DTSTART;VALUE=DATE:20180724
DTEND;VALUE=DATE:20180726
DTSTAMP:20260424T112108
CREATED:20180705T140726Z
LAST-MODIFIED:20180705T140726Z
UID:50263-1532390400-1532563199@www.alabar.org
SUMMARY:July Bar Exam
DESCRIPTION:
URL:https://www.alabar.org/event/july-bar-exam/
LOCATION:AL
END:VEVENT
BEGIN:VEVENT
DTSTART;TZID=America/Chicago:20180723T173000
DTEND;TZID=America/Chicago:20180723T183000
DTSTAMP:20260424T112108
CREATED:20180705T143418Z
LAST-MODIFIED:20180705T143418Z
UID:50272-1532367000-1532370600@www.alabar.org
SUMMARY:State of the Bar
DESCRIPTION:President Sam Irby and Executive Director Phillip McCallum will provide a state of the bar presentation.
URL:https://www.alabar.org/event/state-of-the-bar/
LOCATION:Red Barn\, 901 US-80\, Demopolis\, AL\, 36732\, United States
END:VEVENT
BEGIN:VEVENT
DTSTART;TZID=America/Chicago:20180719T113000
DTEND;TZID=America/Chicago:20180719T130000
DTSTAMP:20260424T112108
CREATED:20180621T220105Z
LAST-MODIFIED:20180621T220105Z
UID:50197-1531999800-1532005200@www.alabar.org
SUMMARY:ASB Health Law Section Lunch & Learn CLE
DESCRIPTION:The Health Law Section is hosting a lunch & learn CLE with speaker Chris David\, CPA/ABV\, ASA\, Principal at HealthValueGroup on “Healthcare FMV Appraisals & Best Practices.” Free to Section Members\, $30 for nonmembers to attend\n(and join the Health Law Section for the year).[pdf-embedder url=”https://www.alabar.org/assets/uploads/2018/06/Health-Law-Section-Lunch-Learn-07192018.pdf” title=”Health Law Section Lunch & Learn 07192018″]\n*Lunch included
URL:https://www.alabar.org/event/asb-health-law-section-lunch-learn-cle/
LOCATION:Burr & Forman LLP\, 420 North 20th Street\, Suite 3400\, Birmingham\, AL\, 35203\, United States
END:VEVENT
BEGIN:VEVENT
DTSTART;TZID=America/Chicago:20180718T120000
DTEND;TZID=America/Chicago:20180718T130000
DTSTAMP:20260424T112108
CREATED:20180516T192556Z
LAST-MODIFIED:20180516T192556Z
UID:49954-1531915200-1531918800@www.alabar.org
SUMMARY:State of the Bar/ALAP CLE - Lawrence County Bar Association
DESCRIPTION:Robert Thornhill will give a 1 hour State of the Bar/ALAP CLE presentation entitled “How to Address the Reality of Alcoholism\, Addiction\, and Mental Health Issues Among Alabama Attorneys” for the Lawrence County Bar Association.
URL:https://www.alabar.org/event/state-of-the-bar-alap-cle-lawrence-county-bar-association/
LOCATION:AL
END:VEVENT
BEGIN:VEVENT
DTSTART;TZID=America/Chicago:20180713T120000
DTEND;TZID=America/Chicago:20180713T130000
DTSTAMP:20260424T112108
CREATED:20180705T142523Z
LAST-MODIFIED:20180705T142523Z
UID:50267-1531483200-1531486800@www.alabar.org
SUMMARY:State of the Bar at the Tuscaloosa County Bar Association Annual Meeting
DESCRIPTION:President Sam Irby and Executive Director Phillip McCallum will provide a state of the bar presentation at the Tuscaloosa County Bar Association Annual Meeting.
URL:https://www.alabar.org/event/state-of-the-bar-at-the-tuscaloosa-county-bar-association-annual-meeting/
LOCATION:AL
END:VEVENT
BEGIN:VEVENT
DTSTART;VALUE=DATE:20180709
DTEND;VALUE=DATE:20180712
DTSTAMP:20260424T112108
CREATED:20180705T134744Z
LAST-MODIFIED:20180705T134744Z
UID:50260-1531094400-1531353599@www.alabar.org
SUMMARY:2018 Circuit & District Judges Conference
DESCRIPTION:
URL:https://www.alabar.org/event/2018-circuit-district-judges-conference/
LOCATION:Perdido Beach Resort\, 27200 Perdido Beach Boulevard\, Orange Beach\, AL\, 36561\, United States
END:VEVENT
BEGIN:VEVENT
DTSTART;TZID=America/Chicago:20180627T130000
DTEND;TZID=America/Chicago:20180627T160000
DTSTAMP:20260424T112108
CREATED:20180521T204152Z
LAST-MODIFIED:20180521T204152Z
UID:49997-1530104400-1530115200@www.alabar.org
SUMMARY:Lawyer University: Marketing 201 Webinar
DESCRIPTION:Part of the 2018 ASB Annual Meeting offered via webinar. Details and registration available soon.\n\nMarketing 201: Why\, How and What to Watch out For\n\nSpeakers:\n\nCooper Shattuck and Erin Owen\, Cartography Consulting\, Tuscaloosa\nMark Moody\, Office of General Counsel\, Alabama State Bar\nJames E. “Tripp” Vickers\, III\, Office of General Counsel\, Ethics Division\, Alabama State Bar\n\n3.0 hours CLE credit\, including 1.0 ethics hour. Sponsored by the Lawyer University Task Force and the Alabama State Bar Practice Management Assistance Program\n\n[pdf-embedder url=”https://www.alabar.org/assets/uploads/2018/05/Legal-Marketing-201-Schedule-1.pdf” title=”Legal Marketing 201 – Schedule”]
URL:https://www.alabar.org/event/lawyer-university-marketing-201-webinar/
LOCATION:AL
END:VEVENT
BEGIN:VEVENT
DTSTART;TZID=America/Chicago:20180625T110000
DTEND;TZID=America/Chicago:20180625T140000
DTSTAMP:20260424T112108
CREATED:20180529T172344Z
LAST-MODIFIED:20180529T172344Z
UID:50023-1529924400-1529935200@www.alabar.org
SUMMARY:State of the Bar - Lowndes/Butler/Crenshaw Bar Association
DESCRIPTION:As part of the Lowndes/Butler/ Crenshaw Bar Association meeting\, Executive Director Phillip McCallum will provide the bar association with an update on the Alabama State Bar. [pdf-embedder url=”https://www.alabar.org/assets/uploads/2018/05/CLE-Flyer-June-25-2018.pdf” title=”CLE Flyer June 25 2018″]
URL:https://www.alabar.org/event/state-of-the-bar-lowndes-butler-crenshaw-bar-association/
LOCATION:AL
END:VEVENT
BEGIN:VEVENT
DTSTART;TZID=America/Chicago:20180622T100000
DTEND;TZID=America/Chicago:20180622T144500
DTSTAMP:20260424T112108
CREATED:20180611T204541Z
LAST-MODIFIED:20180611T204541Z
UID:50117-1529661600-1529678700@www.alabar.org
SUMMARY:Elder Law Section Meeting
DESCRIPTION:
URL:https://www.alabar.org/event/elder-law-section-meeting/
LOCATION:AL
END:VEVENT
BEGIN:VEVENT
DTSTART;TZID=America/Chicago:20180621T120000
DTEND;TZID=America/Chicago:20180621T130000
DTSTAMP:20260424T112108
CREATED:20180516T193019Z
LAST-MODIFIED:20180516T193019Z
UID:49960-1529582400-1529586000@www.alabar.org
SUMMARY:State of the Bar/ALAP CLE - Calhoun/Cleburne County Bar Association
DESCRIPTION:Robert Thornhill will give a 1 hour State of the Bar/ALAP CLE presentation entitled “How to Address the Reality of Alcoholism\, Addiction\, and Mental Health Issues Among Alabama Attorneys” for the Calhoun/Cleburne Bar Association.
URL:https://www.alabar.org/event/state-of-the-bar-alap-cle-calhoun-cleburne-county-bar-association/
LOCATION:Classic on Noble\, 1024 Noble Street\, Anniston\, AL\, 36201\, United States
END:VEVENT
BEGIN:VEVENT
DTSTART;TZID=America/Chicago:20180620T120000
DTEND;TZID=America/Chicago:20180620T130000
DTSTAMP:20260424T112108
CREATED:20180611T203626Z
LAST-MODIFIED:20180611T203626Z
UID:50112-1529496000-1529499600@www.alabar.org
SUMMARY:State of the Bar (Ethics) - Morgan County Bar Association
DESCRIPTION:Executive Director Phillip McCallum will speak on the state of the bar and Assistant General Counsel Jeremy McIntire will provide a 1 hour ethics CLE for the Morgan County Bar Association.
URL:https://www.alabar.org/event/state-of-the-bar-ethics-morgan-county-bar-association/
LOCATION:AL
END:VEVENT
BEGIN:VEVENT
DTSTART;TZID=America/Chicago:20180620T120000
DTEND;TZID=America/Chicago:20180620T130000
DTSTAMP:20260424T112108
CREATED:20180516T192316Z
LAST-MODIFIED:20180516T192316Z
UID:49950-1529496000-1529499600@www.alabar.org
SUMMARY:State of the Bar/PMAP CLE - Lawrence County Bar Association
DESCRIPTION:Eric Anderson will give a 1 hour State of the Bar/PMAP CLE presentation entitled “Social Media Marketing for Lawyers” for the Lawrence County Bar Association.
URL:https://www.alabar.org/event/state-of-the-bar-pmap-cle-lawrence-county-bar-association/
LOCATION:AL
END:VEVENT
BEGIN:VEVENT
DTSTART;TZID=America/Chicago:20180619T170000
DTEND;TZID=America/Chicago:20180619T180000
DTSTAMP:20260424T112108
CREATED:20180516T220553Z
LAST-MODIFIED:20180516T220553Z
UID:49962-1529427600-1529431200@www.alabar.org
SUMMARY:State of the Bar/ALAP CLE - Chambers County Bar Association
DESCRIPTION:Robert Thornhill will give a 1 hour State of the Bar/ALAP CLE presentation entitled “How to Address the Reality of Alcoholism\, Addiction\, and Mental Health Issues Among Alabama Attorneys” for the Chambers County Bar Association. Event will be 5:00 PM CT or 6:00 PM ET.
URL:https://www.alabar.org/event/state-of-the-bar-alap-cle-chambers-county-bar-association/
LOCATION:AL
END:VEVENT
BEGIN:VEVENT
DTSTART;TZID=America/Chicago:20180615T083000
DTEND;TZID=America/Chicago:20180615T183000
DTSTAMP:20260424T112108
CREATED:20180427T211610Z
LAST-MODIFIED:20180427T211610Z
UID:49807-1529051400-1529087400@www.alabar.org
SUMMARY:27th Annual Southeastern Environmental Law & Regulation Conference
DESCRIPTION:The Alabama State Bar Environmental Law Section is co-sponsoring the 27th Annual Southeastern Environmental Law & Regulation Conference on Friday\, June 15\, 2018\, at the Sandestin Golf and Beach Resort in Destin\, Florida. Agenda\, registration and accommodations.
URL:https://www.alabar.org/event/27th-annual-southeastern-environmental-law-regulation-conference/
LOCATION:Baytowne Conference Center\, 9300 Emerald Coast Pkwy. W.\, Destin\, FL\, 32550\, United States
END:VEVENT
BEGIN:VEVENT
DTSTART;TZID=America/Chicago:20180612T120000
DTEND;TZID=America/Chicago:20180612T130000
DTSTAMP:20260424T112108
CREATED:20180606T151822Z
LAST-MODIFIED:20180606T151822Z
UID:50080-1528804800-1528808400@www.alabar.org
SUMMARY:State of the Bar - Blount County Bar Association
DESCRIPTION:ASB Executive Director Phillip McCallum will provide a one hour CLE.
URL:https://www.alabar.org/event/state-of-the-bar-blount-county-bar-association/
LOCATION:AL
END:VEVENT
BEGIN:VEVENT
DTSTART;TZID=America/Chicago:20180612T120000
DTEND;TZID=America/Chicago:20180612T130000
DTSTAMP:20260424T112108
CREATED:20180606T151231Z
LAST-MODIFIED:20180606T151231Z
UID:50078-1528804800-1528808400@www.alabar.org
SUMMARY:State of the Bar (Ethics) - Chilton County Bar Association
DESCRIPTION:ASB Ethics Counsel Tripp Vickers will present a CLE on ethics.
URL:https://www.alabar.org/event/state-of-the-bar-ethics-chilton-county-bar-association/
LOCATION:Kountry Kitchen\, 1759 County Road 28\, Clanton\, AL\, 35046\, United States
END:VEVENT
BEGIN:VEVENT
DTSTART;TZID=America/Chicago:20180608T120000
DTEND;TZID=America/Chicago:20180609T133000
DTSTAMP:20260424T112108
CREATED:20180501T210210Z
LAST-MODIFIED:20180501T210210Z
UID:49852-1528459200-1528551000@www.alabar.org
SUMMARY:Bankruptcy at the Beach
DESCRIPTION:The Bankruptcy and Commercial Law Section of the Alabama State Bar will host its 31st Annual Bankruptcy at the Beach CLE seminar on June 8 and 9 at the Hilton Sandestin Beach Golf Resort & Spa in Destin. \nThe section sponsors this event each summer. The cutoff date for pre-conference registrations is June 4. After that\, you may register onsite. \nFor complete details\, view the event brochure here.
URL:https://www.alabar.org/event/bankruptcy-at-the-beach/
LOCATION:AL
END:VEVENT
BEGIN:VEVENT
DTSTART;TZID=America/Chicago:20180608T120000
DTEND;TZID=America/Chicago:20180608T130000
DTSTAMP:20260424T112108
CREATED:20180606T150843Z
LAST-MODIFIED:20180606T150843Z
UID:50076-1528459200-1528462800@www.alabar.org
SUMMARY:State of the Bar (Ethics) - Lee County Bar Association
DESCRIPTION:ASB Assistant General Counsel Mark Moody will provide a CLE presentation on ethics.
URL:https://www.alabar.org/event/state-of-the-bar-ethics-lee-county-bar-association/
LOCATION:Saugahatchee Country Club\, 3800 Bent Creek Road\, Opelika\, AL\, 36804\, United States
END:VEVENT
END:VCALENDAR