BEGIN:VCALENDAR
VERSION:2.0
PRODID:-//Alabama State Bar - ECPv6.15.20//NONSGML v1.0//EN
CALSCALE:GREGORIAN
METHOD:PUBLISH
X-WR-CALNAME:Alabama State Bar
X-ORIGINAL-URL:https://www.alabar.org
X-WR-CALDESC:Events for Alabama State Bar
REFRESH-INTERVAL;VALUE=DURATION:PT1H
X-Robots-Tag:noindex
X-PUBLISHED-TTL:PT1H
BEGIN:VTIMEZONE
TZID:America/Chicago
BEGIN:DAYLIGHT
TZOFFSETFROM:-0600
TZOFFSETTO:-0500
TZNAME:CDT
DTSTART:20200308T080000
END:DAYLIGHT
BEGIN:STANDARD
TZOFFSETFROM:-0500
TZOFFSETTO:-0600
TZNAME:CST
DTSTART:20201101T070000
END:STANDARD
BEGIN:DAYLIGHT
TZOFFSETFROM:-0600
TZOFFSETTO:-0500
TZNAME:CDT
DTSTART:20210314T080000
END:DAYLIGHT
BEGIN:STANDARD
TZOFFSETFROM:-0500
TZOFFSETTO:-0600
TZNAME:CST
DTSTART:20211107T070000
END:STANDARD
BEGIN:DAYLIGHT
TZOFFSETFROM:-0600
TZOFFSETTO:-0500
TZNAME:CDT
DTSTART:20220313T080000
END:DAYLIGHT
BEGIN:STANDARD
TZOFFSETFROM:-0500
TZOFFSETTO:-0600
TZNAME:CST
DTSTART:20221106T070000
END:STANDARD
END:VTIMEZONE
BEGIN:VEVENT
DTSTART;TZID=America/Chicago:20210510T120000
DTEND;TZID=America/Chicago:20210510T121500
DTSTAMP:20260422T161459
CREATED:20210503T214551Z
LAST-MODIFIED:20210503T214551Z
UID:61429-1620648000-1620648900@www.alabar.org
SUMMARY:Mindful Monday
DESCRIPTION:In conjunction with the Alabama State Bar’s Wellness Month in May\, the Alabama Chapter of the Mindfulness in Law Society is sponsoring “Mindful Mondays” from 12:00 noon to 12:15 pm the first 4 Mondays in May.  There will be a 5 minute check-in with 10 minutes of guided meditation led by Emily Hornsby and Lynn Hogewood.  This will be a time to step away from your day to day activities and take a brief pause with us to meditate.  It makes no difference if you are completely new to meditation and have never done it before\, or if you have a consistent meditation practice\, we welcome you and would love to share this age old training of the mind to pause and be in the present moment! \nPlease join us at noon on the following Mondays in May to tune in and turn inward: May 3\, 10\, 17 and 24. \nTopic: Mindful Mondays \n\nTime: May 3\, 2021 12:00 PM Central Time (US and Canada) \n        Every week on Mon\, until May 24\, 2021\, 4 occurrence(s) \n        May 3\, 2021 12:00 PM \n        May 10\, 2021 12:00 PM \n        May 17\, 2021 12:00 PM \n        May 24\, 2021 12:00 PM \nPlease download and import the following iCalendar (.ics) files to your calendar system. \nWeekly: https://us02web.zoom.us/meeting/tZAqdeuqqz4sEt10V7faO3IMJ0wi_Is7gcpx/ics?icsToken=98tyKuGsqTkoGNGQthGORpwIB4joa-rwmCVdj7cMzCmyBSF8MSrbHLJVO41WA4_X \nJoin Zoom Meeting \nhttps://us02web.zoom.us/j/84722255689?pwd=VXFGcUFLcXRPRnFNczBWbzNlWnNHUT09 \n\nMeeting ID: 847 2225 5689 \nPasscode: 758944
URL:https://www.alabar.org/event/mindful-monday/
CATEGORIES:Health & Wellness
END:VEVENT
BEGIN:VEVENT
DTSTART;TZID=America/Chicago:20210513T120000
DTEND;TZID=America/Chicago:20210513T130000
DTSTAMP:20260422T161459
CREATED:20210503T215612Z
LAST-MODIFIED:20210503T215752Z
UID:61436-1620907200-1620910800@www.alabar.org
SUMMARY:Ethics for the Ethical – What Every Lawyer Needs to Know About the Alabama Ethics Act
DESCRIPTION:This CLE webinar will provide an overview of common Alabama Ethics Act issues and questions that attorneys frequently have. The one-hour program is a free service of the Alabama State Bar to its members that has been arranged by the leadership of the Alabama State Bar. \nIt is approved for 1.0 MCLE Credit\, including one ethics hour. \nThe presentation will be moderated by Ellen Brooks who has recently been serving as the interim Executive Director of the Alabama State Bar and who before that spent several decades as one of Alabama’s most respected prosecutors including over 20 years as the District Attorney of Montgomery County. \nThe presenters will be: \nOthni Lathram – Currently the Director of Alabama’s Legislative Services Agency\, which houses a number of legislative agencies that support the Legislature\, and who has assisted in the drafting of numerous ethics laws and proposals for state policymakers. Othni previously lead the Alabama Law Institute after practicing with Whatley Drake in Birmingham. \nGreg Butrus – a partner with Balch & Bingham who has worked on ethics compliance issues at the state and federal level for many years. Greg currently chairs the Bar’s Government Relations Liaison Committee and previously helped establish the State Bar’s Election\, Ethics\, and Government Relations Section. \nHandouts and reference materials will be provided to participants 24 hours before the CLE begins. \nREGISTER BELOW: \nYou are invited to a Zoom webinar.\nWhen: May 13\, 2021 12:00 PM Central Time (US and Canada)\nTopic: Ethics for the Ethical – What Every Lawyer Needs to Know About the Alabama Ethics Act \nRegister in advance for this webinar:\nhttps://us02web.zoom.us/webinar/register/WN_8gW5g6nCSl-tAde5T3eW3g \nAfter registering\, you will receive a confirmation email containing information about joining the webinar. \n 
URL:https://www.alabar.org/event/ethics-for-the-ethical-what-every-lawyer-needs-to-know-about-the-alabama-ethics-act/
CATEGORIES:Home
END:VEVENT
BEGIN:VEVENT
DTSTART;TZID=America/Chicago:20210517T120000
DTEND;TZID=America/Chicago:20210517T121500
DTSTAMP:20260422T161459
CREATED:20210503T215226Z
LAST-MODIFIED:20210503T215226Z
UID:61432-1621252800-1621253700@www.alabar.org
SUMMARY:Mindful Monday
DESCRIPTION:In conjunction with the Alabama State Bar’s Wellness Month in May\, the Alabama Chapter of the Mindfulness in Law Society is sponsoring “Mindful Mondays” from 12:00 noon to 12:15 pm the first 4 Mondays in May.  There will be a 5 minute check-in with 10 minutes of guided meditation led by Emily Hornsby and Lynn Hogewood.  This will be a time to step away from your day to day activities and take a brief pause with us to meditate.  It makes no difference if you are completely new to meditation and have never done it before\, or if you have a consistent meditation practice\, we welcome you and would love to share this age old training of the mind to pause and be in the present moment!\n\n\nPlease join us at noon on the following Mondays in May to tune in and turn inward: May 3\, 10\, 17 and 24. \nTopic: Mindful Mondays \n\nTime: May 3\, 2021 12:00 PM Central Time (US and Canada) \n        Every week on Mon\, until May 24\, 2021\, 4 occurrence(s) \n        May 3\, 2021 12:00 PM \n        May 10\, 2021 12:00 PM \n        May 17\, 2021 12:00 PM \n        May 24\, 2021 12:00 PM \nPlease download and import the following iCalendar (.ics) files to your calendar system. \nWeekly: https://us02web.zoom.us/meeting/tZAqdeuqqz4sEt10V7faO3IMJ0wi_Is7gcpx/ics?icsToken=98tyKuGsqTkoGNGQthGORpwIB4joa-rwmCVdj7cMzCmyBSF8MSrbHLJVO41WA4_X \nJoin Zoom Meeting \nhttps://us02web.zoom.us/j/84722255689?pwd=VXFGcUFLcXRPRnFNczBWbzNlWnNHUT09 \nMeeting ID: 847 2225 5689 \nPasscode: 758944
URL:https://www.alabar.org/event/mindful-monday-2/
CATEGORIES:Health & Wellness
END:VEVENT
BEGIN:VEVENT
DTSTART;TZID=America/Chicago:20210520T120000
DTEND;TZID=America/Chicago:20210520T130000
DTSTAMP:20260422T161459
CREATED:20210413T162223Z
LAST-MODIFIED:20210413T162655Z
UID:61336-1621512000-1621515600@www.alabar.org
SUMMARY:CLE Webinar: Purchase & Sale - How the Software You Choose Can Ramp Up Efficiency and Revenue in Your Real Estate Practice
DESCRIPTION:Real estate practitioners know best that closings involve complex calculations and lots of paperwork. Would you like to work less and make more? \nReal estate closings can be lucrative and using automation tools is the key to making the money you want\, by closing faster\, and more accurately every time. Whether your practice is solely based on real estate work\, or you run a general practice\, the key to success is working smarter\, not harder and using technology to insure accurate numbers throughout the closing process. \nMoving to specialized cloud software can help you to automate redundant and numerous tasks associated with closings\, and get you and your staff working smarter\, and more efficiently. \nSoftware designed exclusively for real estate practitioners makes complex calculations a snap\, and paperwork feel like a breeze. The right software can help you to close 70% faster\, with increased accuracy. Learn how automation can help you and your staff gain the competitive edge and work hard not smarter with this one-hour webinar. \nfeaturing \nJared D. Correia\, Esq.\nCEO\, Red Cave Law Firm Consulting \nMark Afonso\nProduct Consultant\, Easysoft \n  \nRegister in advance for this webinar:\nhttps://us02web.zoom.us/webinar/register/WN_gjViq6l3Tb6u3VjpEKY5nA \nAfter registering\, you will receive a confirmation email containing information about joining the webinar. \n 
URL:https://www.alabar.org/event/cle-webinar-purchase-sale-how-the-software-you-choose-can-ramp-up-efficiency-and-revenue-in-your-real-estate-practice/
END:VEVENT
BEGIN:VEVENT
DTSTART;TZID=America/Chicago:20210521T120000
DTEND;TZID=America/Chicago:20210521T130000
DTSTAMP:20260422T161459
CREATED:20210503T215917Z
LAST-MODIFIED:20210503T215917Z
UID:61440-1621598400-1621602000@www.alabar.org
SUMMARY:Free Online CLE: Recognizing and Managing Anxiety and Depression for Legal Professionals
DESCRIPTION:Attorney Wellness Month CLE Series: Recognizing and Managing Anxiety and Depression for Legal Professionals\n\n\nThe Alabama State Bar’s Quality of Life\, Health and Wellness Task Force will present a three-part series on lawyer wellness in May\, June and August. May’s topic is “Recognizing and Managing Anxiety and Depression for Legal Professionals.” The speaker is Gina Thompson\, Clinical Social Worker/Therapist. It has been approved for 1 hour of CLE credit.\n\n\nHi there\, \nYou are invited to a Zoom webinar.\nWhen: May 21\, 2021 12:00 PM Central Time (US and Canada)\nTopic: Attorney Wellness Month CLE Series: Recognizing and Managing Anxiety and Depression for Legal Professionals \nRegister in advance for this webinar:\nhttps://us02web.zoom.us/webinar/register/WN_9y5CEoEQS02mF2tCTjgUqg \nAfter registering\, you will receive a confirmation email containing information about joining the webinar. \n 
URL:https://www.alabar.org/event/free-online-cle-recognizing-and-managing-anxiety-and-depression-for-legal-professionals/
CATEGORIES:Health & Wellness
END:VEVENT
BEGIN:VEVENT
DTSTART;TZID=America/Chicago:20210524T120000
DTEND;TZID=America/Chicago:20210524T121500
DTSTAMP:20260422T161459
CREATED:20210503T215400Z
LAST-MODIFIED:20210503T215400Z
UID:61434-1621857600-1621858500@www.alabar.org
SUMMARY:Mindful Monday
DESCRIPTION:In conjunction with the Alabama State Bar’s Wellness Month in May\, the Alabama Chapter of the Mindfulness in Law Society is sponsoring “Mindful Mondays” from 12:00 noon to 12:15 pm the first 4 Mondays in May.  There will be a 5 minute check-in with 10 minutes of guided meditation led by Emily Hornsby and Lynn Hogewood.  This will be a time to step away from your day to day activities and take a brief pause with us to meditate.  It makes no difference if you are completely new to meditation and have never done it before\, or if you have a consistent meditation practice\, we welcome you and would love to share this age old training of the mind to pause and be in the present moment! \n\n\n\n\nPlease join us at noon on the following Mondays in May to tune in and turn inward: May 3\, 10\, 17 and 24. \nTopic: Mindful Mondays \n\nTime: May 3\, 2021 12:00 PM Central Time (US and Canada) \n        Every week on Mon\, until May 24\, 2021\, 4 occurrence(s) \n        May 3\, 2021 12:00 PM \n        May 10\, 2021 12:00 PM \n        May 17\, 2021 12:00 PM \n        May 24\, 2021 12:00 PM \nPlease download and import the following iCalendar (.ics) files to your calendar system. \nWeekly: https://us02web.zoom.us/meeting/tZAqdeuqqz4sEt10V7faO3IMJ0wi_Is7gcpx/ics?icsToken=98tyKuGsqTkoGNGQthGORpwIB4joa-rwmCVdj7cMzCmyBSF8MSrbHLJVO41WA4_X \nJoin Zoom Meeting \nhttps://us02web.zoom.us/j/84722255689?pwd=VXFGcUFLcXRPRnFNczBWbzNlWnNHUT09 \nMeeting ID: 847 2225 5689 \nPasscode: 758944
URL:https://www.alabar.org/event/mindful-monday-3/
CATEGORIES:Health & Wellness
END:VEVENT
END:VCALENDAR