BEGIN:VCALENDAR
VERSION:2.0
PRODID:-//Alabama State Bar - ECPv6.15.20//NONSGML v1.0//EN
CALSCALE:GREGORIAN
METHOD:PUBLISH
X-ORIGINAL-URL:https://www.alabar.org
X-WR-CALDESC:Events for Alabama State Bar
REFRESH-INTERVAL;VALUE=DURATION:PT1H
X-Robots-Tag:noindex
X-PUBLISHED-TTL:PT1H
BEGIN:VTIMEZONE
TZID:America/Chicago
BEGIN:DAYLIGHT
TZOFFSETFROM:-0600
TZOFFSETTO:-0500
TZNAME:CDT
DTSTART:20220313T080000
END:DAYLIGHT
BEGIN:STANDARD
TZOFFSETFROM:-0500
TZOFFSETTO:-0600
TZNAME:CST
DTSTART:20221106T070000
END:STANDARD
BEGIN:DAYLIGHT
TZOFFSETFROM:-0600
TZOFFSETTO:-0500
TZNAME:CDT
DTSTART:20230312T080000
END:DAYLIGHT
BEGIN:STANDARD
TZOFFSETFROM:-0500
TZOFFSETTO:-0600
TZNAME:CST
DTSTART:20231105T070000
END:STANDARD
BEGIN:DAYLIGHT
TZOFFSETFROM:-0600
TZOFFSETTO:-0500
TZNAME:CDT
DTSTART:20240310T080000
END:DAYLIGHT
BEGIN:STANDARD
TZOFFSETFROM:-0500
TZOFFSETTO:-0600
TZNAME:CST
DTSTART:20241103T070000
END:STANDARD
END:VTIMEZONE
BEGIN:VEVENT
DTSTART;TZID=America/Chicago:20230712T080000
DTEND;TZID=America/Chicago:20230716T170000
DTSTAMP:20260425T053547
CREATED:20220831T135143Z
LAST-MODIFIED:20221117T231116Z
UID:64271-1689148800-1689526800@www.alabar.org
SUMMARY:2023 Annual Meeting
DESCRIPTION:
URL:https://www.alabar.org/event/2023-annual-meeting/
LOCATION:Grand Hotel Resort\, Golf Club & Spa\, One Grand Boulevard\, Point Clear\, AL\, United States
CATEGORIES:Home
END:VEVENT
BEGIN:VEVENT
DTSTART;TZID=America/Chicago:20230725T080000
DTEND;TZID=America/Chicago:20230726T170000
DTSTAMP:20260425T053547
CREATED:20230112T223735Z
LAST-MODIFIED:20230112T223917Z
UID:65059-1690272000-1690390800@www.alabar.org
SUMMARY:July Bar Exam
DESCRIPTION:
URL:https://www.alabar.org/event/july-bar-exam-2/
CATEGORIES:Home
END:VEVENT
END:VCALENDAR